BEGIN:VCALENDAR
VERSION:2.0
PRODID:-//Arnie's Gourmet - ECPv5.2.1//NONSGML v1.0//EN
CALSCALE:GREGORIAN
METHOD:PUBLISH
X-WR-CALNAME:Arnie's Gourmet
X-ORIGINAL-URL:https://www.arniesgourmet.com
X-WR-CALDESC:Events for Arnie's Gourmet
BEGIN:VTIMEZONE
TZID:UTC
BEGIN:STANDARD
TZOFFSETFROM:+0000
TZOFFSETTO:+0000
TZNAME:UTC
DTSTART:20160101T000000
END:STANDARD
END:VTIMEZONE
BEGIN:VEVENT
DTSTART;VALUE=DATE:20160218
DTEND;VALUE=DATE:20161211
DTSTAMP:20260423T182505
CREATED:20160210T121129Z
LAST-MODIFIED:20160210T121129Z
UID:1426-1455753600-1481414399@www.arniesgourmet.com
SUMMARY:Vivamus eget nibh etiam cursus leo vel metus
DESCRIPTION:Quote meon an estimate et non interruptus stum tempus fugit espnto hiccup estrogen. Glorious baklava ex librus hup hey ad infinitum.
URL:https://www.arniesgourmet.com/event/vivamus-eget-nibh-etiam-cursus-leo-vel-metus/
ATTACH;FMTTYPE=image/jpeg:https://www.arniesgourmet.com/wp-content/uploads/2016/02/event1.jpg
END:VEVENT
END:VCALENDAR